BEGIN:VCALENDAR
VERSION:2.0
PRODID:-//Mount Vernon Triangle CID - ECPv6.15.13.1//NONSGML v1.0//EN
CALSCALE:GREGORIAN
METHOD:PUBLISH
X-ORIGINAL-URL:https://www.mountvernontriangle.org
X-WR-CALDESC:Events for Mount Vernon Triangle CID
REFRESH-INTERVAL;VALUE=DURATION:PT1H
X-Robots-Tag:noindex
X-PUBLISHED-TTL:PT1H
BEGIN:VTIMEZONE
TZID:America/New_York
BEGIN:DAYLIGHT
TZOFFSETFROM:-0500
TZOFFSETTO:-0400
TZNAME:EDT
DTSTART:20250309T070000
END:DAYLIGHT
BEGIN:STANDARD
TZOFFSETFROM:-0400
TZOFFSETTO:-0500
TZNAME:EST
DTSTART:20251102T060000
END:STANDARD
BEGIN:DAYLIGHT
TZOFFSETFROM:-0500
TZOFFSETTO:-0400
TZNAME:EDT
DTSTART:20260308T070000
END:DAYLIGHT
BEGIN:STANDARD
TZOFFSETFROM:-0400
TZOFFSETTO:-0500
TZNAME:EST
DTSTART:20261101T060000
END:STANDARD
BEGIN:DAYLIGHT
TZOFFSETFROM:-0500
TZOFFSETTO:-0400
TZNAME:EDT
DTSTART:20270314T070000
END:DAYLIGHT
BEGIN:STANDARD
TZOFFSETFROM:-0400
TZOFFSETTO:-0500
TZNAME:EST
DTSTART:20271107T060000
END:STANDARD
END:VTIMEZONE
BEGIN:VEVENT
DTSTART;TZID=America/New_York:20260424T190000
DTEND;TZID=America/New_York:20260424T230000
DTSTAMP:20260424T144755
CREATED:20260327T133308Z
LAST-MODIFIED:20260327T133649Z
UID:24708-1777057200-1777071600@www.mountvernontriangle.org
SUMMARY:Live Music @ dLeña ROJA
DESCRIPTION:ETX Trio by EFI Tovia – Wednesdays & Thursdays from 7pm to 11pm\nUnited Nation Trio by Gigi MacLaughlin – Fridays & Saturdays from 7pm to 11pm\nEli Staples and Trio Candela – Sundays from 6pm to 10pm
URL:https://www.mountvernontriangle.org/event/live-music-dlena-roja-14/2026-04-24/
LOCATION:dLeña ROJA\, 476 K Street Northwest\, Washington\, DC\, 20001\, United States
ATTACH;FMTTYPE=image/png:https://www.mountvernontriangle.org/wp-content/uploads/2021/07/dLena-ROJA.png
END:VEVENT
BEGIN:VEVENT
DTSTART;TZID=America/New_York:20260425T090000
DTEND;TZID=America/New_York:20260425T130000
DTSTAMP:20260424T144755
CREATED:20260401T202254Z
LAST-MODIFIED:20260421T202534Z
UID:24916-1777107600-1777122000@www.mountvernontriangle.org
SUMMARY:FRESHFARM MVT Market
DESCRIPTION:Boso Kitchen\, Hidden Gems Farm\, and Republic Restoratives pop-up this week along with bi-weekly vendors Chacho Spirits\, Dimitri Olive Oil\, and Keswick Creamery. The FRESHFARM MVT Market is proud to be every Saturday from 9am-1pm rain or shine! Get your weekly grocery shopping done with the list of regular vendors: \n\nBecerra Produce: fruits and vegetables\nBlack Rock Orchard: fruits and vegetables \nBlú – Jamaican Blue Mountain Coffe: coffee to-go & whole coffee beans\nChia Catering: Turkish food \nCocoi’s Sweets and Pastries: Filipino-inspired pastries and donuts\nCropEats: vegan baked goods\nDMV Empanadas: empanadas\, saltados & chicharones\nEarth Worker: hand-blended vitamins and natural supplements \nEightFold Farms: mushrooms\nFamily of Nuts: premium mixed nuts\nFight Juice: fresh juice\nHog Haven: pasture raised heritage pork products & breakfast sandwiches\nLittle Green Farm: fruits and vegetables \nPearl Fine Teas: DC’s finest tea purveyor \nPleitez Produce: IPM & non-GMO produce \nRoots ‘n Shoots: locally grown microgreens\nSnarfies: handmade pet treats\nStone Hearth Bakery: organic bakery\nSunnyside Flowers: flowers & eggs\nTaco Loco: authentic Mexican street food\nTae-Gu Kimchi: kimchi\nThe Farmstead Butcher: quality craft meats\nThik and Juicy: Asian & Caribbean prepared food\nVegHeaven: baked goods \nZeke’s Coffee: coffee to-go & whole coffee beans\n\nMarket is open from 9am-1pm every Saturday – rain or shine – at the corner of 5th & I Streets NW. Look forward to seeing you there!
URL:https://www.mountvernontriangle.org/event/freshfarm-mvt-market-5-2-2026-04-11-2026-04-25/
LOCATION:DC
ATTACH;FMTTYPE=image/jpeg:https://www.mountvernontriangle.org/wp-content/uploads/2021/09/MVT-logo-purple-scaled.jpg
END:VEVENT
BEGIN:VEVENT
DTSTART;TZID=America/New_York:20260425T100000
DTEND;TZID=America/New_York:20260425T120000
DTSTAMP:20260424T144755
CREATED:20260401T155920Z
LAST-MODIFIED:20260401T160712Z
UID:24789-1777111200-1777118400@www.mountvernontriangle.org
SUMMARY:The 2026 Great Ward 6 Spring Clean
DESCRIPTION:The Great Ward 6 Spring Clean is back! This year’s Ward-wide clean-up event will be held on Saturday\, April 25\, from 10 a.m. to noon. Last year\, we had more than 300 neighbors sign up to volunteer\, and we hope you’ll join us this spring! \nThis is one of our favorite events of the year\, because who doesn’t want to get together in warmer weather and show some love for Ward 6? Will you pitch in? Here’s how: \nRSVP to volunteer by Friday\, April 10\, and we’ll send you all the information you need. If you’d like to host a site\, please email Kate at kmitchell@dccouncil.gov. After registration closes\, volunteers will then be asked to pick one of the sites (soon to also be fully listed below)\, but you can also feel free to clean your own block. \nNeed supplies? \nWe’ll have trash grabbers\, gloves\, and trash bags available for pickup on Friday\, April 24\, from 4:30 to 6:30 p.m. at the Eastern Market Metro station. \nAfter the clean-up: \nWe’ll meet at the Roost (1401 Pennsylvania Ave. SE) from noon until 2 p.m. to grab a bite together and return any supplies. Please swing by! \n\n\nWHEN\nApril 25\, 2026 at 10:00am – 12pm\n\n\nCONTACT\nKate Mitchell · kmitchell@dccouncil.gov · (202) 724-8072\n\n\nVisit Charles Allen DC Council for more information and stay tuned for details on where you can pitch in near Mount Vernon Triangle!
URL:https://www.mountvernontriangle.org/event/the-2026-great-ward-6-spring-clean/
LOCATION:DC
ATTACH;FMTTYPE=image/png:https://www.mountvernontriangle.org/wp-content/uploads/2026/04/Screenshot-2026-04-01-115533.png
END:VEVENT
BEGIN:VEVENT
DTSTART;TZID=America/New_York:20260425T190000
DTEND;TZID=America/New_York:20260425T230000
DTSTAMP:20260424T144755
CREATED:20260327T133308Z
LAST-MODIFIED:20260327T133649Z
UID:24709-1777143600-1777158000@www.mountvernontriangle.org
SUMMARY:Live Music @ dLeña ROJA
DESCRIPTION:ETX Trio by EFI Tovia – Wednesdays & Thursdays from 7pm to 11pm\nUnited Nation Trio by Gigi MacLaughlin – Fridays & Saturdays from 7pm to 11pm\nEli Staples and Trio Candela – Sundays from 6pm to 10pm
URL:https://www.mountvernontriangle.org/event/live-music-dlena-roja-14/2026-04-25/
LOCATION:dLeña ROJA\, 476 K Street Northwest\, Washington\, DC\, 20001\, United States
ATTACH;FMTTYPE=image/png:https://www.mountvernontriangle.org/wp-content/uploads/2021/07/dLena-ROJA.png
END:VEVENT
BEGIN:VEVENT
DTSTART;TZID=America/New_York:20260426T180000
DTEND;TZID=America/New_York:20260426T220000
DTSTAMP:20260424T144755
CREATED:20260327T133308Z
LAST-MODIFIED:20260327T133650Z
UID:24710-1777226400-1777240800@www.mountvernontriangle.org
SUMMARY:Live Music @ dLeña ROJA
DESCRIPTION:ETX Trio by EFI Tovia – Wednesdays & Thursdays from 7pm to 11pm\nUnited Nation Trio by Gigi MacLaughlin – Fridays & Saturdays from 7pm to 11pm\nEli Staples and Trio Candela – Sundays from 6pm to 10pm
URL:https://www.mountvernontriangle.org/event/live-music-dlena-roja-14/2026-04-26/
LOCATION:dLeña ROJA\, 476 K Street Northwest\, Washington\, DC\, 20001\, United States
ATTACH;FMTTYPE=image/png:https://www.mountvernontriangle.org/wp-content/uploads/2021/07/dLena-ROJA.png
END:VEVENT
BEGIN:VEVENT
DTSTART;TZID=America/New_York:20260427T103000
DTEND;TZID=America/New_York:20260427T170000
DTSTAMP:20260424T144755
CREATED:20260120T205214Z
LAST-MODIFIED:20260120T205214Z
UID:23680-1777285800-1777309200@www.mountvernontriangle.org
SUMMARY:Resume Building for Beginners at Northwest One Library
DESCRIPTION:Get Help With Building Your Very Own First Resume! \n\n\n\n\n\n\nNorthwest One Library presents Resume Building for Beginners. This program will consist of helping individuals who has never created and/or have a resume build their first resume. This program will have two sessions every Monday. \nSession One: 10:45am-12:00pm for Adults \nSession Two: 3:45pm-5:00pm for Teens
URL:https://www.mountvernontriangle.org/event/resume-building-for-beginners-at-northwest-one-library/2026-04-27/
LOCATION:Northwest One Library\, 155 L Street NW\, Washington\, DC\, 20001\, United States
ATTACH;FMTTYPE=image/jpeg:https://www.mountvernontriangle.org/wp-content/uploads/2025/08/Northwest-One-Neighborhood-Library.jpg
ORGANIZER;CN="Northwest One Library":MAILTO:outreach.dcpl@dc.gov
END:VEVENT
BEGIN:VEVENT
DTSTART;TZID=America/New_York:20260428T120000
DTEND;TZID=America/New_York:20260428T130000
DTSTAMP:20260424T144755
CREATED:20250807T203342Z
LAST-MODIFIED:20250807T203342Z
UID:21677-1777377600-1777381200@www.mountvernontriangle.org
SUMMARY:Tech Tuesdays at Northwest One Neighborhood Library
DESCRIPTION:Northwest One Library is presenting Tech Tuesdays (Device Help) for Seniors and/or Adults every Tuesday from 12pm-1pm. Get help learning how to use your devices; from Laptops\, Cellphones\, & Tablets/Ipads. We look forward to helping you learn and navigate through technology on Tech Tuesdays.
URL:https://www.mountvernontriangle.org/event/tech-tuesdays-at-northwest-one-neighborhood-library/2026-04-28/
LOCATION:Northwest One Library\, 155 L Street NW\, Washington\, DC\, 20001\, United States
ATTACH;FMTTYPE=image/jpeg:https://www.mountvernontriangle.org/wp-content/uploads/2025/08/Northwest-One-Neighborhood-Library.jpg
ORGANIZER;CN="Northwest One Library":MAILTO:outreach.dcpl@dc.gov
END:VEVENT
BEGIN:VEVENT
DTSTART;TZID=America/New_York:20260429T080000
DTEND;TZID=America/New_York:20260429T170000
DTSTAMP:20260424T144755
CREATED:20260224T215700Z
LAST-MODIFIED:20260224T215700Z
UID:24220-1777449600-1777482000@www.mountvernontriangle.org
SUMMARY:HYROX Training
DESCRIPTION:Are you ready to take your fitness to the next level? VIDA’s HYROX Small Group Training Program is here to help you unlock your potential and crush your goals. Designed for athletes of all levels\, this program combines personalized coaching with the power of community to deliver results. Expect tailored training\, a small group atmosphere\, HYROX-specific workouts\, and goal-oriented coaching. Sign up here for our next series starting Wednesday\, April 8th.
URL:https://www.mountvernontriangle.org/event/hyrox-training/2026-04-29/
LOCATION:Vida Fitness\, 445 K Street NW\, Washington\, DC\, 20001\, United States
ATTACH;FMTTYPE=image/jpeg:https://www.mountvernontriangle.org/wp-content/uploads/2020/01/vida1.jpg
END:VEVENT
BEGIN:VEVENT
DTSTART;TZID=America/New_York:20260429T103000
DTEND;TZID=America/New_York:20260429T114500
DTSTAMP:20260424T144755
CREATED:20250807T203755Z
LAST-MODIFIED:20250807T203755Z
UID:21734-1777458600-1777463100@www.mountvernontriangle.org
SUMMARY:Toddler Story Time at Northwest One Neighborhood Library
DESCRIPTION:Get up and get moving at our Toddler Story Time! Designed especially for children ages 18-36 months and their grown-ups to enjoy together\, these 20-30 minute interactive programs are full of books\, songs\, and fun activities that promote language and motor skill development. \nThere will be DCPL systemwide story time break (NO SESSIONS at any branch) between Oct 6th and Oct 20th.
URL:https://www.mountvernontriangle.org/event/toddler-story-time-at-northwest-one-neighborhood-library/2026-04-29/
LOCATION:Northwest One Library\, 155 L Street NW\, Washington\, DC\, 20001\, United States
ATTACH;FMTTYPE=image/jpeg:https://www.mountvernontriangle.org/wp-content/uploads/2025/08/Northwest-One-Neighborhood-Library.jpg
ORGANIZER;CN="Northwest One Library":MAILTO:outreach.dcpl@dc.gov
END:VEVENT
BEGIN:VEVENT
DTSTART;TZID=America/New_York:20260429T180000
DTEND;TZID=America/New_York:20260429T200000
DTSTAMP:20260424T144755
CREATED:20260422T165426Z
LAST-MODIFIED:20260422T165426Z
UID:25167-1777485600-1777492800@www.mountvernontriangle.org
SUMMARY:Spelling Buzz'd - Boozy Spelling Bee Contest at Ciel
DESCRIPTION:Spelling just got a little… harder. \nSpelling Buzz’d is here! A boozy spelling bee where the drinks are flowing and the words don’t get easier. \nWednesday\, April 29th 6–8PM at Ciel Downtown\nRSVP as a spectator or sign up to compete
URL:https://www.mountvernontriangle.org/event/spelling-buzzd-boozy-spelling-bee-contest-at-ciel/
LOCATION:Ciel Social Club\, 601 K Street NW\, Washington\, DC\, 20001
ATTACH;FMTTYPE=image/png:https://www.mountvernontriangle.org/wp-content/uploads/2026/04/Spelling-Buzzd-Ciel.png
END:VEVENT
BEGIN:VEVENT
DTSTART;TZID=America/New_York:20260429T183000
DTEND;TZID=America/New_York:20260429T203000
DTSTAMP:20260424T144755
CREATED:20260422T165741Z
LAST-MODIFIED:20260422T165741Z
UID:25169-1777487400-1777494600@www.mountvernontriangle.org
SUMMARY:ANC 6E Monthly Meeting
DESCRIPTION:This is the monthly meeting of ANC 6E\, your local advisory neighborhood commission. All are welcome to attend. \nPlease visit anc6e.org for the full agenda and link to join. \nWhat is an ANC? \nAn ANC is a non-partisan\, neighborhood body made up of locally elected\, unpaid representatives. The ANCs’ main job is to be the official voice representing residents\, business owners\, and other neighborhood stakeholders before the District government (and Federal agencies) on events that affect their neighborhoods. Although they are not required to follow the ANCs’ advice\, District agencies are required to give the ANCs’ recommendations “great weight.”
URL:https://www.mountvernontriangle.org/event/anc-6e-monthly-meeting-6/
LOCATION:DC
ATTACH;FMTTYPE=image/png:https://www.mountvernontriangle.org/wp-content/uploads/2023/03/ANC6E.png
END:VEVENT
BEGIN:VEVENT
DTSTART;TZID=America/New_York:20260429T190000
DTEND;TZID=America/New_York:20260429T230000
DTSTAMP:20260424T144755
CREATED:20260327T133308Z
LAST-MODIFIED:20260327T133650Z
UID:24711-1777489200-1777503600@www.mountvernontriangle.org
SUMMARY:Live Music @ dLeña ROJA
DESCRIPTION:ETX Trio by EFI Tovia – Wednesdays & Thursdays from 7pm to 11pm\nUnited Nation Trio by Gigi MacLaughlin – Fridays & Saturdays from 7pm to 11pm\nEli Staples and Trio Candela – Sundays from 6pm to 10pm
URL:https://www.mountvernontriangle.org/event/live-music-dlena-roja-14/2026-04-29/
LOCATION:dLeña ROJA\, 476 K Street Northwest\, Washington\, DC\, 20001\, United States
ATTACH;FMTTYPE=image/png:https://www.mountvernontriangle.org/wp-content/uploads/2021/07/dLena-ROJA.png
END:VEVENT
BEGIN:VEVENT
DTSTART;TZID=America/New_York:20260429T193000
DTEND;TZID=America/New_York:20260429T213000
DTSTAMP:20260424T144755
CREATED:20260327T202305Z
LAST-MODIFIED:20260327T202305Z
UID:24728-1777491000-1777498200@www.mountvernontriangle.org
SUMMARY:Movies in Milian - Soul
DESCRIPTION:Gather with friends and neighbors at sunset (approximately 7:30pm) to celebrate the start of longer days and warmer weather with this free outdoor movie series in Milian Park (499 Massachusetts Avenue NW). This year’s lineup honors America’s 250th birthday by celebrating life\, liberty\, and the pursuit of happiness. Check out the lineup below\, bring your own picnic blankets or borrow a chair from us\, and get ready to sit back\, relax\, and enjoy the show! \n2026 Movies in Milian Lineup: \n\nWednesday\, April 8: Apollo 13 (PG)\nWednesday\, April 15: Harriet (PG-13)\nWednesday\, April 22: School of Rock (PG-13)\nWednesday\, April 29: Soul (PG)
URL:https://www.mountvernontriangle.org/event/movies-in-milian-soul/
LOCATION:Milian Park\, 499 Massachusetts Avenue NW\, Washington DC\, DC\, 20001
ATTACH;FMTTYPE=image/jpeg:https://www.mountvernontriangle.org/wp-content/uploads/2026/03/Movies-in-Milian-2026-1080-x-1080-px.jpg
END:VEVENT
BEGIN:VEVENT
DTSTART;TZID=America/New_York:20260430T170000
DTEND;TZID=America/New_York:20260430T183000
DTSTAMP:20260424T144755
CREATED:20260413T202612Z
LAST-MODIFIED:20260413T204548Z
UID:25003-1777568400-1777573800@www.mountvernontriangle.org
SUMMARY:Women\, Weights & Wine
DESCRIPTION:Join the VIDA Fitness personal training team for a 90-minute strength workshop – designed by women\, for women. You’ll learn how to safely execute strength exercises\, receive an individualized movement assessment\, and walk away with your own strength program. Class will also include snacks\, time to mingle with your fellow VIDA ladies\, and of course – wine!
URL:https://www.mountvernontriangle.org/event/women-weights-wine-8/2026-04-30/
LOCATION:VIDA Fitness at City Vista\, 445 K St NW\, Washington\, DC\, 20001
ATTACH;FMTTYPE=image/jpeg:https://www.mountvernontriangle.org/wp-content/uploads/2025/01/AKTIV-0203-scaled.jpg
ORGANIZER;CN="VIDA Fitness":MAILTO:adisch@vidafitness.com
END:VEVENT
BEGIN:VEVENT
DTSTART;TZID=America/New_York:20260430T190000
DTEND;TZID=America/New_York:20260430T230000
DTSTAMP:20260424T144755
CREATED:20260327T133308Z
LAST-MODIFIED:20260327T133654Z
UID:24712-1777575600-1777590000@www.mountvernontriangle.org
SUMMARY:Live Music @ dLeña ROJA
DESCRIPTION:ETX Trio by EFI Tovia – Wednesdays & Thursdays from 7pm to 11pm\nUnited Nation Trio by Gigi MacLaughlin – Fridays & Saturdays from 7pm to 11pm\nEli Staples and Trio Candela – Sundays from 6pm to 10pm
URL:https://www.mountvernontriangle.org/event/live-music-dlena-roja-14/2026-04-30/
LOCATION:dLeña ROJA\, 476 K Street Northwest\, Washington\, DC\, 20001\, United States
ATTACH;FMTTYPE=image/png:https://www.mountvernontriangle.org/wp-content/uploads/2021/07/dLena-ROJA.png
END:VEVENT
END:VCALENDAR