BEGIN:VCALENDAR
VERSION:2.0
PRODID:-//Mount Vernon Triangle CID - ECPv6.15.13.1//NONSGML v1.0//EN
CALSCALE:GREGORIAN
METHOD:PUBLISH
X-ORIGINAL-URL:https://www.mountvernontriangle.org
X-WR-CALDESC:Events for Mount Vernon Triangle CID
REFRESH-INTERVAL;VALUE=DURATION:PT1H
X-Robots-Tag:noindex
X-PUBLISHED-TTL:PT1H
BEGIN:VTIMEZONE
TZID:America/New_York
BEGIN:DAYLIGHT
TZOFFSETFROM:-0500
TZOFFSETTO:-0400
TZNAME:EDT
DTSTART:20240310T070000
END:DAYLIGHT
BEGIN:STANDARD
TZOFFSETFROM:-0400
TZOFFSETTO:-0500
TZNAME:EST
DTSTART:20241103T060000
END:STANDARD
BEGIN:DAYLIGHT
TZOFFSETFROM:-0500
TZOFFSETTO:-0400
TZNAME:EDT
DTSTART:20250309T070000
END:DAYLIGHT
BEGIN:STANDARD
TZOFFSETFROM:-0400
TZOFFSETTO:-0500
TZNAME:EST
DTSTART:20251102T060000
END:STANDARD
BEGIN:DAYLIGHT
TZOFFSETFROM:-0500
TZOFFSETTO:-0400
TZNAME:EDT
DTSTART:20260308T070000
END:DAYLIGHT
BEGIN:STANDARD
TZOFFSETFROM:-0400
TZOFFSETTO:-0500
TZNAME:EST
DTSTART:20261101T060000
END:STANDARD
END:VTIMEZONE
BEGIN:VEVENT
DTSTART;TZID=America/New_York:20250426T090000
DTEND;TZID=America/New_York:20250426T130000
DTSTAMP:20260422T152802
CREATED:20250416T200939Z
LAST-MODIFIED:20250416T201030Z
UID:20532-1745658000-1745672400@www.mountvernontriangle.org
SUMMARY:Frühlingsfest: Prost Biergarten at FRESHFARM MVT Market
DESCRIPTION:Join Prost from 9am – 1pm as they kick off Frühlingsfest at the FRESHFARM MVT Market\, located just around the corner from Prost on Eye Street\, serving up cold beer and seasonal cocktails. The perfect pair as you shop for fresh and local produce\, sweet and savory baked goods and more!
URL:https://www.mountvernontriangle.org/event/fruhlingsfest-prost-beirgarten-at-freshfarm-mvt-market/2025-04-26/
LOCATION:FRESHFARM MVT Market\, 499 I Street NW\, Washington\, District of Columbia\, 20001
ATTACH;FMTTYPE=image/png:https://www.mountvernontriangle.org/wp-content/uploads/2025/04/Screenshot-2025-04-16-154510.png
ORGANIZER;CN="Prost":MAILTO:hido10@gmail.com
END:VEVENT
BEGIN:VEVENT
DTSTART;TZID=America/New_York:20250419T090000
DTEND;TZID=America/New_York:20250419T130000
DTSTAMP:20260422T152802
CREATED:20250416T200939Z
LAST-MODIFIED:20250416T201029Z
UID:20530-1745053200-1745067600@www.mountvernontriangle.org
SUMMARY:Frühlingsfest: Prost Biergarten at FRESHFARM MVT Market
DESCRIPTION:Join Prost from 9am – 1pm as they kick off Frühlingsfest at the FRESHFARM MVT Market\, located just around the corner from Prost on Eye Street\, serving up cold beer and seasonal cocktails. The perfect pair as you shop for fresh and local produce\, sweet and savory baked goods and more!
URL:https://www.mountvernontriangle.org/event/fruhlingsfest-prost-beirgarten-at-freshfarm-mvt-market/2025-04-19/
LOCATION:FRESHFARM MVT Market\, 499 I Street NW\, Washington\, District of Columbia\, 20001
ATTACH;FMTTYPE=image/png:https://www.mountvernontriangle.org/wp-content/uploads/2025/04/Screenshot-2025-04-16-154510.png
ORGANIZER;CN="Prost":MAILTO:hido10@gmail.com
END:VEVENT
END:VCALENDAR