BEGIN:VCALENDAR
VERSION:2.0
PRODID:-//Mount Vernon Triangle CID - ECPv6.15.13.1//NONSGML v1.0//EN
CALSCALE:GREGORIAN
METHOD:PUBLISH
X-WR-CALNAME:Mount Vernon Triangle CID
X-ORIGINAL-URL:https://www.mountvernontriangle.org
X-WR-CALDESC:Events for Mount Vernon Triangle CID
REFRESH-INTERVAL;VALUE=DURATION:PT1H
X-Robots-Tag:noindex
X-PUBLISHED-TTL:PT1H
BEGIN:VTIMEZONE
TZID:America/New_York
BEGIN:DAYLIGHT
TZOFFSETFROM:-0500
TZOFFSETTO:-0400
TZNAME:EDT
DTSTART:20220313T070000
END:DAYLIGHT
BEGIN:STANDARD
TZOFFSETFROM:-0400
TZOFFSETTO:-0500
TZNAME:EST
DTSTART:20221106T060000
END:STANDARD
BEGIN:DAYLIGHT
TZOFFSETFROM:-0500
TZOFFSETTO:-0400
TZNAME:EDT
DTSTART:20230312T070000
END:DAYLIGHT
BEGIN:STANDARD
TZOFFSETFROM:-0400
TZOFFSETTO:-0500
TZNAME:EST
DTSTART:20231105T060000
END:STANDARD
BEGIN:DAYLIGHT
TZOFFSETFROM:-0500
TZOFFSETTO:-0400
TZNAME:EDT
DTSTART:20240310T070000
END:DAYLIGHT
BEGIN:STANDARD
TZOFFSETFROM:-0400
TZOFFSETTO:-0500
TZNAME:EST
DTSTART:20241103T060000
END:STANDARD
END:VTIMEZONE
BEGIN:VEVENT
DTSTART;TZID=America/New_York:20230901T190000
DTEND;TZID=America/New_York:20230901T230000
DTSTAMP:20260422T134939
CREATED:20230829T141356Z
LAST-MODIFIED:20230829T141356Z
UID:14390-1693594800-1693609200@www.mountvernontriangle.org
SUMMARY:Live Music at dLeña ROJA
DESCRIPTION:ETX Trio by EFI Tovia on Wednesdays and Thursdays from 7pm to 11pm\nUnited Nation Trio by Gigi MacLaughlin on Fridays and Saturdays from 7pm to 11pm
URL:https://www.mountvernontriangle.org/event/live-music-at-dlena-roja-12/2023-09-01/
LOCATION:dLeña ROJA\, 476 K Street Northwest\, Washington\, DC\, 20001\, United States
ATTACH;FMTTYPE=image/jpeg:https://www.mountvernontriangle.org/wp-content/uploads/2021/09/MVT-logo-purple-scaled.jpg
END:VEVENT
END:VCALENDAR