BEGIN:VCALENDAR
VERSION:2.0
PRODID:-//Mount Vernon Triangle CID - ECPv6.15.13.1//NONSGML v1.0//EN
CALSCALE:GREGORIAN
METHOD:PUBLISH
X-WR-CALNAME:Mount Vernon Triangle CID
X-ORIGINAL-URL:https://www.mountvernontriangle.org
X-WR-CALDESC:Events for Mount Vernon Triangle CID
REFRESH-INTERVAL;VALUE=DURATION:PT1H
X-Robots-Tag:noindex
X-PUBLISHED-TTL:PT1H
BEGIN:VTIMEZONE
TZID:America/New_York
BEGIN:DAYLIGHT
TZOFFSETFROM:-0500
TZOFFSETTO:-0400
TZNAME:EDT
DTSTART:20230312T070000
END:DAYLIGHT
BEGIN:STANDARD
TZOFFSETFROM:-0400
TZOFFSETTO:-0500
TZNAME:EST
DTSTART:20231105T060000
END:STANDARD
BEGIN:DAYLIGHT
TZOFFSETFROM:-0500
TZOFFSETTO:-0400
TZNAME:EDT
DTSTART:20240310T070000
END:DAYLIGHT
BEGIN:STANDARD
TZOFFSETFROM:-0400
TZOFFSETTO:-0500
TZNAME:EST
DTSTART:20241103T060000
END:STANDARD
BEGIN:DAYLIGHT
TZOFFSETFROM:-0500
TZOFFSETTO:-0400
TZNAME:EDT
DTSTART:20250309T070000
END:DAYLIGHT
BEGIN:STANDARD
TZOFFSETFROM:-0400
TZOFFSETTO:-0500
TZNAME:EST
DTSTART:20251102T060000
END:STANDARD
END:VTIMEZONE
BEGIN:VEVENT
DTSTART;TZID=America/New_York:20241124T180000
DTEND;TZID=America/New_York:20241124T220000
DTSTAMP:20260421T165704
CREATED:20241028T134951Z
LAST-MODIFIED:20241028T135215Z
UID:18221-1732471200-1732485600@www.mountvernontriangle.org
SUMMARY:Live Music at dLeña ROJA
DESCRIPTION:ETX Trio by EFI Tovia – Wednesdays & Thursdays from 7pm to 11pm\nUnited Nation Trio by Gigi MacLaughlin – Fridays & Saturdays from 7pm to 11pm\nEli Staples and Trio Candela – Sundays from 6pm to 10pm
URL:https://www.mountvernontriangle.org/event/live-music-at-dlena-roja-26/2024-11-24/
LOCATION:dLeña ROJA\, 476 K Street Northwest\, Washington\, DC\, 20001\, United States
ATTACH;FMTTYPE=image/png:https://www.mountvernontriangle.org/wp-content/uploads/2021/07/dLena-ROJA.png
END:VEVENT
BEGIN:VEVENT
DTSTART;TZID=America/New_York:20241117T180000
DTEND;TZID=America/New_York:20241117T220000
DTSTAMP:20260421T165704
CREATED:20241028T134951Z
LAST-MODIFIED:20241028T135212Z
UID:18220-1731866400-1731880800@www.mountvernontriangle.org
SUMMARY:Live Music at dLeña ROJA
DESCRIPTION:ETX Trio by EFI Tovia – Wednesdays & Thursdays from 7pm to 11pm\nUnited Nation Trio by Gigi MacLaughlin – Fridays & Saturdays from 7pm to 11pm\nEli Staples and Trio Candela – Sundays from 6pm to 10pm
URL:https://www.mountvernontriangle.org/event/live-music-at-dlena-roja-26/2024-11-17/
LOCATION:dLeña ROJA\, 476 K Street Northwest\, Washington\, DC\, 20001\, United States
ATTACH;FMTTYPE=image/png:https://www.mountvernontriangle.org/wp-content/uploads/2021/07/dLena-ROJA.png
END:VEVENT
BEGIN:VEVENT
DTSTART;TZID=America/New_York:20241110T180000
DTEND;TZID=America/New_York:20241110T220000
DTSTAMP:20260421T165704
CREATED:20241028T134951Z
LAST-MODIFIED:20241028T135210Z
UID:18219-1731261600-1731276000@www.mountvernontriangle.org
SUMMARY:Live Music at dLeña ROJA
DESCRIPTION:ETX Trio by EFI Tovia – Wednesdays & Thursdays from 7pm to 11pm\nUnited Nation Trio by Gigi MacLaughlin – Fridays & Saturdays from 7pm to 11pm\nEli Staples and Trio Candela – Sundays from 6pm to 10pm
URL:https://www.mountvernontriangle.org/event/live-music-at-dlena-roja-26/2024-11-10/
LOCATION:dLeña ROJA\, 476 K Street Northwest\, Washington\, DC\, 20001\, United States
ATTACH;FMTTYPE=image/png:https://www.mountvernontriangle.org/wp-content/uploads/2021/07/dLena-ROJA.png
END:VEVENT
BEGIN:VEVENT
DTSTART;TZID=America/New_York:20241103T180000
DTEND;TZID=America/New_York:20241103T220000
DTSTAMP:20260421T165704
CREATED:20241028T134951Z
LAST-MODIFIED:20241028T135209Z
UID:18218-1730656800-1730671200@www.mountvernontriangle.org
SUMMARY:Live Music at dLeña ROJA
DESCRIPTION:ETX Trio by EFI Tovia – Wednesdays & Thursdays from 7pm to 11pm\nUnited Nation Trio by Gigi MacLaughlin – Fridays & Saturdays from 7pm to 11pm\nEli Staples and Trio Candela – Sundays from 6pm to 10pm
URL:https://www.mountvernontriangle.org/event/live-music-at-dlena-roja-26/2024-11-03/
LOCATION:dLeña ROJA\, 476 K Street Northwest\, Washington\, DC\, 20001\, United States
ATTACH;FMTTYPE=image/png:https://www.mountvernontriangle.org/wp-content/uploads/2021/07/dLena-ROJA.png
END:VEVENT
END:VCALENDAR