BEGIN:VCALENDAR
VERSION:2.0
PRODID:-//Mount Vernon Triangle CID - ECPv6.15.13.1//NONSGML v1.0//EN
CALSCALE:GREGORIAN
METHOD:PUBLISH
X-WR-CALNAME:Mount Vernon Triangle CID
X-ORIGINAL-URL:https://www.mountvernontriangle.org
X-WR-CALDESC:Events for Mount Vernon Triangle CID
REFRESH-INTERVAL;VALUE=DURATION:PT1H
X-Robots-Tag:noindex
X-PUBLISHED-TTL:PT1H
BEGIN:VTIMEZONE
TZID:America/New_York
BEGIN:DAYLIGHT
TZOFFSETFROM:-0500
TZOFFSETTO:-0400
TZNAME:EDT
DTSTART:20240310T070000
END:DAYLIGHT
BEGIN:STANDARD
TZOFFSETFROM:-0400
TZOFFSETTO:-0500
TZNAME:EST
DTSTART:20241103T060000
END:STANDARD
BEGIN:DAYLIGHT
TZOFFSETFROM:-0500
TZOFFSETTO:-0400
TZNAME:EDT
DTSTART:20250309T070000
END:DAYLIGHT
BEGIN:STANDARD
TZOFFSETFROM:-0400
TZOFFSETTO:-0500
TZNAME:EST
DTSTART:20251102T060000
END:STANDARD
BEGIN:DAYLIGHT
TZOFFSETFROM:-0500
TZOFFSETTO:-0400
TZNAME:EDT
DTSTART:20260308T070000
END:DAYLIGHT
BEGIN:STANDARD
TZOFFSETFROM:-0400
TZOFFSETTO:-0500
TZNAME:EST
DTSTART:20261101T060000
END:STANDARD
END:VTIMEZONE
BEGIN:VEVENT
DTSTART;TZID=America/New_York:20250928T180000
DTEND;TZID=America/New_York:20250928T220000
DTSTAMP:20260423T094021
CREATED:20250905T160418Z
LAST-MODIFIED:20250905T160418Z
UID:22226-1759082400-1759096800@www.mountvernontriangle.org
SUMMARY:Live Music @ dLeña ROJA
DESCRIPTION:ETX Trio by EFI Tovia – Wednesdays & Thursdays from 7pm to 11pm\nUnited Nation Trio by Gigi MacLaughlin – Fridays & Saturdays from 7pm to 11pm\nEli Staples and Trio Candela – Sundays from 6pm to 10pm
URL:https://www.mountvernontriangle.org/event/live-music-dlena-roja-7/2025-09-28/
LOCATION:dLeña ROJA\, 476 K Street Northwest\, Washington\, DC\, 20001\, United States
ATTACH;FMTTYPE=image/jpeg:https://www.mountvernontriangle.org/wp-content/uploads/2023/02/Copyright_ZephColombatto_210426_dLena_Interior_Day01_Daytime_ZC75281.jpeg
END:VEVENT
BEGIN:VEVENT
DTSTART;TZID=America/New_York:20250927T190000
DTEND;TZID=America/New_York:20250927T230000
DTSTAMP:20260423T094021
CREATED:20250905T160415Z
LAST-MODIFIED:20250905T160415Z
UID:22225-1758999600-1759014000@www.mountvernontriangle.org
SUMMARY:Live Music @ dLeña ROJA
DESCRIPTION:ETX Trio by EFI Tovia – Wednesdays & Thursdays from 7pm to 11pm\nUnited Nation Trio by Gigi MacLaughlin – Fridays & Saturdays from 7pm to 11pm\nEli Staples and Trio Candela – Sundays from 6pm to 10pm
URL:https://www.mountvernontriangle.org/event/live-music-dlena-roja-7/2025-09-27/
LOCATION:dLeña ROJA\, 476 K Street Northwest\, Washington\, DC\, 20001\, United States
ATTACH;FMTTYPE=image/jpeg:https://www.mountvernontriangle.org/wp-content/uploads/2023/02/Copyright_ZephColombatto_210426_dLena_Interior_Day01_Daytime_ZC75281.jpeg
END:VEVENT
BEGIN:VEVENT
DTSTART;TZID=America/New_York:20250926T190000
DTEND;TZID=America/New_York:20250926T230000
DTSTAMP:20260423T094021
CREATED:20250905T160414Z
LAST-MODIFIED:20250905T160414Z
UID:22224-1758913200-1758927600@www.mountvernontriangle.org
SUMMARY:Live Music @ dLeña ROJA
DESCRIPTION:ETX Trio by EFI Tovia – Wednesdays & Thursdays from 7pm to 11pm\nUnited Nation Trio by Gigi MacLaughlin – Fridays & Saturdays from 7pm to 11pm\nEli Staples and Trio Candela – Sundays from 6pm to 10pm
URL:https://www.mountvernontriangle.org/event/live-music-dlena-roja-7/2025-09-26/
LOCATION:dLeña ROJA\, 476 K Street Northwest\, Washington\, DC\, 20001\, United States
ATTACH;FMTTYPE=image/jpeg:https://www.mountvernontriangle.org/wp-content/uploads/2023/02/Copyright_ZephColombatto_210426_dLena_Interior_Day01_Daytime_ZC75281.jpeg
END:VEVENT
BEGIN:VEVENT
DTSTART;TZID=America/New_York:20250925T190000
DTEND;TZID=America/New_York:20250925T230000
DTSTAMP:20260423T094021
CREATED:20250905T160413Z
LAST-MODIFIED:20250905T160413Z
UID:22223-1758826800-1758841200@www.mountvernontriangle.org
SUMMARY:Live Music @ dLeña ROJA
DESCRIPTION:ETX Trio by EFI Tovia – Wednesdays & Thursdays from 7pm to 11pm\nUnited Nation Trio by Gigi MacLaughlin – Fridays & Saturdays from 7pm to 11pm\nEli Staples and Trio Candela – Sundays from 6pm to 10pm
URL:https://www.mountvernontriangle.org/event/live-music-dlena-roja-7/2025-09-25/
LOCATION:dLeña ROJA\, 476 K Street Northwest\, Washington\, DC\, 20001\, United States
ATTACH;FMTTYPE=image/jpeg:https://www.mountvernontriangle.org/wp-content/uploads/2023/02/Copyright_ZephColombatto_210426_dLena_Interior_Day01_Daytime_ZC75281.jpeg
END:VEVENT
BEGIN:VEVENT
DTSTART;TZID=America/New_York:20250924T190000
DTEND;TZID=America/New_York:20250924T230000
DTSTAMP:20260423T094021
CREATED:20250905T160412Z
LAST-MODIFIED:20250905T160412Z
UID:22222-1758740400-1758754800@www.mountvernontriangle.org
SUMMARY:Live Music @ dLeña ROJA
DESCRIPTION:ETX Trio by EFI Tovia – Wednesdays & Thursdays from 7pm to 11pm\nUnited Nation Trio by Gigi MacLaughlin – Fridays & Saturdays from 7pm to 11pm\nEli Staples and Trio Candela – Sundays from 6pm to 10pm
URL:https://www.mountvernontriangle.org/event/live-music-dlena-roja-7/2025-09-24/
LOCATION:dLeña ROJA\, 476 K Street Northwest\, Washington\, DC\, 20001\, United States
ATTACH;FMTTYPE=image/jpeg:https://www.mountvernontriangle.org/wp-content/uploads/2023/02/Copyright_ZephColombatto_210426_dLena_Interior_Day01_Daytime_ZC75281.jpeg
END:VEVENT
BEGIN:VEVENT
DTSTART;TZID=America/New_York:20250921T180000
DTEND;TZID=America/New_York:20250921T220000
DTSTAMP:20260423T094021
CREATED:20250905T160411Z
LAST-MODIFIED:20250905T160411Z
UID:22221-1758477600-1758492000@www.mountvernontriangle.org
SUMMARY:Live Music @ dLeña ROJA
DESCRIPTION:ETX Trio by EFI Tovia – Wednesdays & Thursdays from 7pm to 11pm\nUnited Nation Trio by Gigi MacLaughlin – Fridays & Saturdays from 7pm to 11pm\nEli Staples and Trio Candela – Sundays from 6pm to 10pm
URL:https://www.mountvernontriangle.org/event/live-music-dlena-roja-7/2025-09-21/
LOCATION:dLeña ROJA\, 476 K Street Northwest\, Washington\, DC\, 20001\, United States
ATTACH;FMTTYPE=image/jpeg:https://www.mountvernontriangle.org/wp-content/uploads/2023/02/Copyright_ZephColombatto_210426_dLena_Interior_Day01_Daytime_ZC75281.jpeg
END:VEVENT
BEGIN:VEVENT
DTSTART;TZID=America/New_York:20250920T190000
DTEND;TZID=America/New_York:20250920T230000
DTSTAMP:20260423T094021
CREATED:20250905T160410Z
LAST-MODIFIED:20250905T160410Z
UID:22220-1758394800-1758409200@www.mountvernontriangle.org
SUMMARY:Live Music @ dLeña ROJA
DESCRIPTION:ETX Trio by EFI Tovia – Wednesdays & Thursdays from 7pm to 11pm\nUnited Nation Trio by Gigi MacLaughlin – Fridays & Saturdays from 7pm to 11pm\nEli Staples and Trio Candela – Sundays from 6pm to 10pm
URL:https://www.mountvernontriangle.org/event/live-music-dlena-roja-7/2025-09-20/
LOCATION:dLeña ROJA\, 476 K Street Northwest\, Washington\, DC\, 20001\, United States
ATTACH;FMTTYPE=image/jpeg:https://www.mountvernontriangle.org/wp-content/uploads/2023/02/Copyright_ZephColombatto_210426_dLena_Interior_Day01_Daytime_ZC75281.jpeg
END:VEVENT
BEGIN:VEVENT
DTSTART;TZID=America/New_York:20250919T190000
DTEND;TZID=America/New_York:20250919T230000
DTSTAMP:20260423T094021
CREATED:20250905T160409Z
LAST-MODIFIED:20250905T160409Z
UID:22219-1758308400-1758322800@www.mountvernontriangle.org
SUMMARY:Live Music @ dLeña ROJA
DESCRIPTION:ETX Trio by EFI Tovia – Wednesdays & Thursdays from 7pm to 11pm\nUnited Nation Trio by Gigi MacLaughlin – Fridays & Saturdays from 7pm to 11pm\nEli Staples and Trio Candela – Sundays from 6pm to 10pm
URL:https://www.mountvernontriangle.org/event/live-music-dlena-roja-7/2025-09-19/
LOCATION:dLeña ROJA\, 476 K Street Northwest\, Washington\, DC\, 20001\, United States
ATTACH;FMTTYPE=image/jpeg:https://www.mountvernontriangle.org/wp-content/uploads/2023/02/Copyright_ZephColombatto_210426_dLena_Interior_Day01_Daytime_ZC75281.jpeg
END:VEVENT
BEGIN:VEVENT
DTSTART;TZID=America/New_York:20250918T190000
DTEND;TZID=America/New_York:20250918T230000
DTSTAMP:20260423T094021
CREATED:20250905T160352Z
LAST-MODIFIED:20250905T160352Z
UID:22193-1758222000-1758236400@www.mountvernontriangle.org
SUMMARY:Live Music @ dLeña ROJA
DESCRIPTION:ETX Trio by EFI Tovia – Wednesdays & Thursdays from 7pm to 11pm\nUnited Nation Trio by Gigi MacLaughlin – Fridays & Saturdays from 7pm to 11pm\nEli Staples and Trio Candela – Sundays from 6pm to 10pm
URL:https://www.mountvernontriangle.org/event/live-music-dlena-roja-7/2025-09-18/
LOCATION:dLeña ROJA\, 476 K Street Northwest\, Washington\, DC\, 20001\, United States
ATTACH;FMTTYPE=image/jpeg:https://www.mountvernontriangle.org/wp-content/uploads/2023/02/Copyright_ZephColombatto_210426_dLena_Interior_Day01_Daytime_ZC75281.jpeg
END:VEVENT
BEGIN:VEVENT
DTSTART;TZID=America/New_York:20250917T190000
DTEND;TZID=America/New_York:20250917T230000
DTSTAMP:20260423T094021
CREATED:20250905T160351Z
LAST-MODIFIED:20250905T160351Z
UID:22192-1758135600-1758150000@www.mountvernontriangle.org
SUMMARY:Live Music @ dLeña ROJA
DESCRIPTION:ETX Trio by EFI Tovia – Wednesdays & Thursdays from 7pm to 11pm\nUnited Nation Trio by Gigi MacLaughlin – Fridays & Saturdays from 7pm to 11pm\nEli Staples and Trio Candela – Sundays from 6pm to 10pm
URL:https://www.mountvernontriangle.org/event/live-music-dlena-roja-7/2025-09-17/
LOCATION:dLeña ROJA\, 476 K Street Northwest\, Washington\, DC\, 20001\, United States
ATTACH;FMTTYPE=image/jpeg:https://www.mountvernontriangle.org/wp-content/uploads/2023/02/Copyright_ZephColombatto_210426_dLena_Interior_Day01_Daytime_ZC75281.jpeg
END:VEVENT
BEGIN:VEVENT
DTSTART;TZID=America/New_York:20250914T180000
DTEND;TZID=America/New_York:20250914T220000
DTSTAMP:20260423T094021
CREATED:20250905T160351Z
LAST-MODIFIED:20250905T160351Z
UID:22191-1757872800-1757887200@www.mountvernontriangle.org
SUMMARY:Live Music @ dLeña ROJA
DESCRIPTION:ETX Trio by EFI Tovia – Wednesdays & Thursdays from 7pm to 11pm\nUnited Nation Trio by Gigi MacLaughlin – Fridays & Saturdays from 7pm to 11pm\nEli Staples and Trio Candela – Sundays from 6pm to 10pm
URL:https://www.mountvernontriangle.org/event/live-music-dlena-roja-7/2025-09-14/
LOCATION:dLeña ROJA\, 476 K Street Northwest\, Washington\, DC\, 20001\, United States
ATTACH;FMTTYPE=image/jpeg:https://www.mountvernontriangle.org/wp-content/uploads/2023/02/Copyright_ZephColombatto_210426_dLena_Interior_Day01_Daytime_ZC75281.jpeg
END:VEVENT
BEGIN:VEVENT
DTSTART;TZID=America/New_York:20250913T190000
DTEND;TZID=America/New_York:20250913T230000
DTSTAMP:20260423T094021
CREATED:20250905T160350Z
LAST-MODIFIED:20250905T160350Z
UID:22190-1757790000-1757804400@www.mountvernontriangle.org
SUMMARY:Live Music @ dLeña ROJA
DESCRIPTION:ETX Trio by EFI Tovia – Wednesdays & Thursdays from 7pm to 11pm\nUnited Nation Trio by Gigi MacLaughlin – Fridays & Saturdays from 7pm to 11pm\nEli Staples and Trio Candela – Sundays from 6pm to 10pm
URL:https://www.mountvernontriangle.org/event/live-music-dlena-roja-7/2025-09-13/
LOCATION:dLeña ROJA\, 476 K Street Northwest\, Washington\, DC\, 20001\, United States
ATTACH;FMTTYPE=image/jpeg:https://www.mountvernontriangle.org/wp-content/uploads/2023/02/Copyright_ZephColombatto_210426_dLena_Interior_Day01_Daytime_ZC75281.jpeg
END:VEVENT
BEGIN:VEVENT
DTSTART;TZID=America/New_York:20250912T190000
DTEND;TZID=America/New_York:20250912T230000
DTSTAMP:20260423T094021
CREATED:20250905T160349Z
LAST-MODIFIED:20250905T160349Z
UID:22189-1757703600-1757718000@www.mountvernontriangle.org
SUMMARY:Live Music @ dLeña ROJA
DESCRIPTION:ETX Trio by EFI Tovia – Wednesdays & Thursdays from 7pm to 11pm\nUnited Nation Trio by Gigi MacLaughlin – Fridays & Saturdays from 7pm to 11pm\nEli Staples and Trio Candela – Sundays from 6pm to 10pm
URL:https://www.mountvernontriangle.org/event/live-music-dlena-roja-7/2025-09-12/
LOCATION:dLeña ROJA\, 476 K Street Northwest\, Washington\, DC\, 20001\, United States
ATTACH;FMTTYPE=image/jpeg:https://www.mountvernontriangle.org/wp-content/uploads/2023/02/Copyright_ZephColombatto_210426_dLena_Interior_Day01_Daytime_ZC75281.jpeg
END:VEVENT
BEGIN:VEVENT
DTSTART;TZID=America/New_York:20250911T190000
DTEND;TZID=America/New_York:20250911T230000
DTSTAMP:20260423T094021
CREATED:20250905T160349Z
LAST-MODIFIED:20250905T160349Z
UID:22188-1757617200-1757631600@www.mountvernontriangle.org
SUMMARY:Live Music @ dLeña ROJA
DESCRIPTION:ETX Trio by EFI Tovia – Wednesdays & Thursdays from 7pm to 11pm\nUnited Nation Trio by Gigi MacLaughlin – Fridays & Saturdays from 7pm to 11pm\nEli Staples and Trio Candela – Sundays from 6pm to 10pm
URL:https://www.mountvernontriangle.org/event/live-music-dlena-roja-7/2025-09-11/
LOCATION:dLeña ROJA\, 476 K Street Northwest\, Washington\, DC\, 20001\, United States
ATTACH;FMTTYPE=image/jpeg:https://www.mountvernontriangle.org/wp-content/uploads/2023/02/Copyright_ZephColombatto_210426_dLena_Interior_Day01_Daytime_ZC75281.jpeg
END:VEVENT
BEGIN:VEVENT
DTSTART;TZID=America/New_York:20250910T190000
DTEND;TZID=America/New_York:20250910T230000
DTSTAMP:20260423T094021
CREATED:20250905T160348Z
LAST-MODIFIED:20250905T160348Z
UID:22187-1757530800-1757545200@www.mountvernontriangle.org
SUMMARY:Live Music @ dLeña ROJA
DESCRIPTION:ETX Trio by EFI Tovia – Wednesdays & Thursdays from 7pm to 11pm\nUnited Nation Trio by Gigi MacLaughlin – Fridays & Saturdays from 7pm to 11pm\nEli Staples and Trio Candela – Sundays from 6pm to 10pm
URL:https://www.mountvernontriangle.org/event/live-music-dlena-roja-7/2025-09-10/
LOCATION:dLeña ROJA\, 476 K Street Northwest\, Washington\, DC\, 20001\, United States
ATTACH;FMTTYPE=image/jpeg:https://www.mountvernontriangle.org/wp-content/uploads/2023/02/Copyright_ZephColombatto_210426_dLena_Interior_Day01_Daytime_ZC75281.jpeg
END:VEVENT
BEGIN:VEVENT
DTSTART;TZID=America/New_York:20250907T180000
DTEND;TZID=America/New_York:20250907T220000
DTSTAMP:20260423T094021
CREATED:20250905T160347Z
LAST-MODIFIED:20250905T160347Z
UID:22186-1757268000-1757282400@www.mountvernontriangle.org
SUMMARY:Live Music @ dLeña ROJA
DESCRIPTION:ETX Trio by EFI Tovia – Wednesdays & Thursdays from 7pm to 11pm\nUnited Nation Trio by Gigi MacLaughlin – Fridays & Saturdays from 7pm to 11pm\nEli Staples and Trio Candela – Sundays from 6pm to 10pm
URL:https://www.mountvernontriangle.org/event/live-music-dlena-roja-7/2025-09-07/
LOCATION:dLeña ROJA\, 476 K Street Northwest\, Washington\, DC\, 20001\, United States
ATTACH;FMTTYPE=image/jpeg:https://www.mountvernontriangle.org/wp-content/uploads/2023/02/Copyright_ZephColombatto_210426_dLena_Interior_Day01_Daytime_ZC75281.jpeg
END:VEVENT
BEGIN:VEVENT
DTSTART;TZID=America/New_York:20250906T190000
DTEND;TZID=America/New_York:20250906T230000
DTSTAMP:20260423T094021
CREATED:20250905T160346Z
LAST-MODIFIED:20250905T160346Z
UID:22185-1757185200-1757199600@www.mountvernontriangle.org
SUMMARY:Live Music @ dLeña ROJA
DESCRIPTION:ETX Trio by EFI Tovia – Wednesdays & Thursdays from 7pm to 11pm\nUnited Nation Trio by Gigi MacLaughlin – Fridays & Saturdays from 7pm to 11pm\nEli Staples and Trio Candela – Sundays from 6pm to 10pm
URL:https://www.mountvernontriangle.org/event/live-music-dlena-roja-7/2025-09-06/
LOCATION:dLeña ROJA\, 476 K Street Northwest\, Washington\, DC\, 20001\, United States
ATTACH;FMTTYPE=image/jpeg:https://www.mountvernontriangle.org/wp-content/uploads/2023/02/Copyright_ZephColombatto_210426_dLena_Interior_Day01_Daytime_ZC75281.jpeg
END:VEVENT
BEGIN:VEVENT
DTSTART;TZID=America/New_York:20250905T190000
DTEND;TZID=America/New_York:20250905T230000
DTSTAMP:20260423T094021
CREATED:20250905T160345Z
LAST-MODIFIED:20250905T160345Z
UID:22184-1757098800-1757113200@www.mountvernontriangle.org
SUMMARY:Live Music @ dLeña ROJA
DESCRIPTION:ETX Trio by EFI Tovia – Wednesdays & Thursdays from 7pm to 11pm\nUnited Nation Trio by Gigi MacLaughlin – Fridays & Saturdays from 7pm to 11pm\nEli Staples and Trio Candela – Sundays from 6pm to 10pm
URL:https://www.mountvernontriangle.org/event/live-music-dlena-roja-7/2025-09-05/
LOCATION:dLeña ROJA\, 476 K Street Northwest\, Washington\, DC\, 20001\, United States
ATTACH;FMTTYPE=image/jpeg:https://www.mountvernontriangle.org/wp-content/uploads/2023/02/Copyright_ZephColombatto_210426_dLena_Interior_Day01_Daytime_ZC75281.jpeg
END:VEVENT
BEGIN:VEVENT
DTSTART;TZID=America/New_York:20250904T190000
DTEND;TZID=America/New_York:20250904T230000
DTSTAMP:20260423T094021
CREATED:20250905T160344Z
LAST-MODIFIED:20250905T160344Z
UID:22180-1757012400-1757026800@www.mountvernontriangle.org
SUMMARY:Live Music @ dLeña ROJA
DESCRIPTION:ETX Trio by EFI Tovia – Wednesdays & Thursdays from 7pm to 11pm\nUnited Nation Trio by Gigi MacLaughlin – Fridays & Saturdays from 7pm to 11pm\nEli Staples and Trio Candela – Sundays from 6pm to 10pm
URL:https://www.mountvernontriangle.org/event/live-music-dlena-roja-7/2025-09-04/
LOCATION:dLeña ROJA\, 476 K Street Northwest\, Washington\, DC\, 20001\, United States
ATTACH;FMTTYPE=image/jpeg:https://www.mountvernontriangle.org/wp-content/uploads/2023/02/Copyright_ZephColombatto_210426_dLena_Interior_Day01_Daytime_ZC75281.jpeg
END:VEVENT
END:VCALENDAR