BEGIN:VCALENDAR
VERSION:2.0
PRODID:-//Mount Vernon Triangle CID - ECPv6.15.13.1//NONSGML v1.0//EN
CALSCALE:GREGORIAN
METHOD:PUBLISH
X-ORIGINAL-URL:https://www.mountvernontriangle.org
X-WR-CALDESC:Events for Mount Vernon Triangle CID
REFRESH-INTERVAL;VALUE=DURATION:PT1H
X-Robots-Tag:noindex
X-PUBLISHED-TTL:PT1H
BEGIN:VTIMEZONE
TZID:America/New_York
BEGIN:DAYLIGHT
TZOFFSETFROM:-0500
TZOFFSETTO:-0400
TZNAME:EDT
DTSTART:20240310T070000
END:DAYLIGHT
BEGIN:STANDARD
TZOFFSETFROM:-0400
TZOFFSETTO:-0500
TZNAME:EST
DTSTART:20241103T060000
END:STANDARD
BEGIN:DAYLIGHT
TZOFFSETFROM:-0500
TZOFFSETTO:-0400
TZNAME:EDT
DTSTART:20250309T070000
END:DAYLIGHT
BEGIN:STANDARD
TZOFFSETFROM:-0400
TZOFFSETTO:-0500
TZNAME:EST
DTSTART:20251102T060000
END:STANDARD
BEGIN:DAYLIGHT
TZOFFSETFROM:-0500
TZOFFSETTO:-0400
TZNAME:EDT
DTSTART:20260308T070000
END:DAYLIGHT
BEGIN:STANDARD
TZOFFSETFROM:-0400
TZOFFSETTO:-0500
TZNAME:EST
DTSTART:20261101T060000
END:STANDARD
END:VTIMEZONE
BEGIN:VEVENT
DTSTART;VALUE=DATE:20251014
DTEND;VALUE=DATE:20251015
DTSTAMP:20260422T135047
CREATED:20251001T182645Z
LAST-MODIFIED:20251001T182645Z
UID:22542-1760400000-1760486399@www.mountvernontriangle.org
SUMMARY:Unlimited Free Delivery at RASA
DESCRIPTION:Enjoy free delivery for all RASA orders from the Mount Vernon Triangle now through October 14!
URL:https://www.mountvernontriangle.org/event/unlimited-free-delivery-at-rasa/2025-10-14/
LOCATION:RASA\, 485 K Street NW\, Washington\, DC\, 20001\, United States
ATTACH;FMTTYPE=image/jpeg:https://www.mountvernontriangle.org/wp-content/uploads/2025/06/RASA-April-2025-copy-scaled.jpg
END:VEVENT
BEGIN:VEVENT
DTSTART;VALUE=DATE:20251013
DTEND;VALUE=DATE:20251014
DTSTAMP:20260422T135047
CREATED:20251001T182645Z
LAST-MODIFIED:20251001T182645Z
UID:22541-1760313600-1760399999@www.mountvernontriangle.org
SUMMARY:Unlimited Free Delivery at RASA
DESCRIPTION:Enjoy free delivery for all RASA orders from the Mount Vernon Triangle now through October 14!
URL:https://www.mountvernontriangle.org/event/unlimited-free-delivery-at-rasa/2025-10-13/
LOCATION:RASA\, 485 K Street NW\, Washington\, DC\, 20001\, United States
ATTACH;FMTTYPE=image/jpeg:https://www.mountvernontriangle.org/wp-content/uploads/2025/06/RASA-April-2025-copy-scaled.jpg
END:VEVENT
BEGIN:VEVENT
DTSTART;VALUE=DATE:20251012
DTEND;VALUE=DATE:20251013
DTSTAMP:20260422T135047
CREATED:20251001T182645Z
LAST-MODIFIED:20251001T182645Z
UID:22540-1760227200-1760313599@www.mountvernontriangle.org
SUMMARY:Unlimited Free Delivery at RASA
DESCRIPTION:Enjoy free delivery for all RASA orders from the Mount Vernon Triangle now through October 14!
URL:https://www.mountvernontriangle.org/event/unlimited-free-delivery-at-rasa/2025-10-12/
LOCATION:RASA\, 485 K Street NW\, Washington\, DC\, 20001\, United States
ATTACH;FMTTYPE=image/jpeg:https://www.mountvernontriangle.org/wp-content/uploads/2025/06/RASA-April-2025-copy-scaled.jpg
END:VEVENT
BEGIN:VEVENT
DTSTART;VALUE=DATE:20251011
DTEND;VALUE=DATE:20251012
DTSTAMP:20260422T135047
CREATED:20251001T182645Z
LAST-MODIFIED:20251001T182645Z
UID:22539-1760140800-1760227199@www.mountvernontriangle.org
SUMMARY:Unlimited Free Delivery at RASA
DESCRIPTION:Enjoy free delivery for all RASA orders from the Mount Vernon Triangle now through October 14!
URL:https://www.mountvernontriangle.org/event/unlimited-free-delivery-at-rasa/2025-10-11/
LOCATION:RASA\, 485 K Street NW\, Washington\, DC\, 20001\, United States
ATTACH;FMTTYPE=image/jpeg:https://www.mountvernontriangle.org/wp-content/uploads/2025/06/RASA-April-2025-copy-scaled.jpg
END:VEVENT
BEGIN:VEVENT
DTSTART;VALUE=DATE:20251010
DTEND;VALUE=DATE:20251011
DTSTAMP:20260422T135047
CREATED:20251001T182645Z
LAST-MODIFIED:20251001T182645Z
UID:22538-1760054400-1760140799@www.mountvernontriangle.org
SUMMARY:Unlimited Free Delivery at RASA
DESCRIPTION:Enjoy free delivery for all RASA orders from the Mount Vernon Triangle now through October 14!
URL:https://www.mountvernontriangle.org/event/unlimited-free-delivery-at-rasa/2025-10-10/
LOCATION:RASA\, 485 K Street NW\, Washington\, DC\, 20001\, United States
ATTACH;FMTTYPE=image/jpeg:https://www.mountvernontriangle.org/wp-content/uploads/2025/06/RASA-April-2025-copy-scaled.jpg
END:VEVENT
BEGIN:VEVENT
DTSTART;VALUE=DATE:20251009
DTEND;VALUE=DATE:20251010
DTSTAMP:20260422T135047
CREATED:20251001T182645Z
LAST-MODIFIED:20251001T182645Z
UID:22537-1759968000-1760054399@www.mountvernontriangle.org
SUMMARY:Unlimited Free Delivery at RASA
DESCRIPTION:Enjoy free delivery for all RASA orders from the Mount Vernon Triangle now through October 14!
URL:https://www.mountvernontriangle.org/event/unlimited-free-delivery-at-rasa/2025-10-09/
LOCATION:RASA\, 485 K Street NW\, Washington\, DC\, 20001\, United States
ATTACH;FMTTYPE=image/jpeg:https://www.mountvernontriangle.org/wp-content/uploads/2025/06/RASA-April-2025-copy-scaled.jpg
END:VEVENT
BEGIN:VEVENT
DTSTART;VALUE=DATE:20251008
DTEND;VALUE=DATE:20251009
DTSTAMP:20260422T135047
CREATED:20251001T182645Z
LAST-MODIFIED:20251001T182645Z
UID:22536-1759881600-1759967999@www.mountvernontriangle.org
SUMMARY:Unlimited Free Delivery at RASA
DESCRIPTION:Enjoy free delivery for all RASA orders from the Mount Vernon Triangle now through October 14!
URL:https://www.mountvernontriangle.org/event/unlimited-free-delivery-at-rasa/2025-10-08/
LOCATION:RASA\, 485 K Street NW\, Washington\, DC\, 20001\, United States
ATTACH;FMTTYPE=image/jpeg:https://www.mountvernontriangle.org/wp-content/uploads/2025/06/RASA-April-2025-copy-scaled.jpg
END:VEVENT
BEGIN:VEVENT
DTSTART;VALUE=DATE:20251007
DTEND;VALUE=DATE:20251008
DTSTAMP:20260422T135047
CREATED:20251001T182645Z
LAST-MODIFIED:20251001T182645Z
UID:22535-1759795200-1759881599@www.mountvernontriangle.org
SUMMARY:Unlimited Free Delivery at RASA
DESCRIPTION:Enjoy free delivery for all RASA orders from the Mount Vernon Triangle now through October 14!
URL:https://www.mountvernontriangle.org/event/unlimited-free-delivery-at-rasa/2025-10-07/
LOCATION:RASA\, 485 K Street NW\, Washington\, DC\, 20001\, United States
ATTACH;FMTTYPE=image/jpeg:https://www.mountvernontriangle.org/wp-content/uploads/2025/06/RASA-April-2025-copy-scaled.jpg
END:VEVENT
BEGIN:VEVENT
DTSTART;VALUE=DATE:20251006
DTEND;VALUE=DATE:20251007
DTSTAMP:20260422T135047
CREATED:20251001T182645Z
LAST-MODIFIED:20251001T182645Z
UID:22534-1759708800-1759795199@www.mountvernontriangle.org
SUMMARY:Unlimited Free Delivery at RASA
DESCRIPTION:Enjoy free delivery for all RASA orders from the Mount Vernon Triangle now through October 14!
URL:https://www.mountvernontriangle.org/event/unlimited-free-delivery-at-rasa/2025-10-06/
LOCATION:RASA\, 485 K Street NW\, Washington\, DC\, 20001\, United States
ATTACH;FMTTYPE=image/jpeg:https://www.mountvernontriangle.org/wp-content/uploads/2025/06/RASA-April-2025-copy-scaled.jpg
END:VEVENT
BEGIN:VEVENT
DTSTART;VALUE=DATE:20251005
DTEND;VALUE=DATE:20251006
DTSTAMP:20260422T135047
CREATED:20251001T182645Z
LAST-MODIFIED:20251001T182645Z
UID:22533-1759622400-1759708799@www.mountvernontriangle.org
SUMMARY:Unlimited Free Delivery at RASA
DESCRIPTION:Enjoy free delivery for all RASA orders from the Mount Vernon Triangle now through October 14!
URL:https://www.mountvernontriangle.org/event/unlimited-free-delivery-at-rasa/2025-10-05/
LOCATION:RASA\, 485 K Street NW\, Washington\, DC\, 20001\, United States
ATTACH;FMTTYPE=image/jpeg:https://www.mountvernontriangle.org/wp-content/uploads/2025/06/RASA-April-2025-copy-scaled.jpg
END:VEVENT
BEGIN:VEVENT
DTSTART;VALUE=DATE:20251004
DTEND;VALUE=DATE:20251005
DTSTAMP:20260422T135047
CREATED:20251001T182645Z
LAST-MODIFIED:20251001T182645Z
UID:22532-1759536000-1759622399@www.mountvernontriangle.org
SUMMARY:Unlimited Free Delivery at RASA
DESCRIPTION:Enjoy free delivery for all RASA orders from the Mount Vernon Triangle now through October 14!
URL:https://www.mountvernontriangle.org/event/unlimited-free-delivery-at-rasa/2025-10-04/
LOCATION:RASA\, 485 K Street NW\, Washington\, DC\, 20001\, United States
ATTACH;FMTTYPE=image/jpeg:https://www.mountvernontriangle.org/wp-content/uploads/2025/06/RASA-April-2025-copy-scaled.jpg
END:VEVENT
BEGIN:VEVENT
DTSTART;VALUE=DATE:20251003
DTEND;VALUE=DATE:20251004
DTSTAMP:20260422T135047
CREATED:20251001T182645Z
LAST-MODIFIED:20251001T182645Z
UID:22531-1759449600-1759535999@www.mountvernontriangle.org
SUMMARY:Unlimited Free Delivery at RASA
DESCRIPTION:Enjoy free delivery for all RASA orders from the Mount Vernon Triangle now through October 14!
URL:https://www.mountvernontriangle.org/event/unlimited-free-delivery-at-rasa/2025-10-03/
LOCATION:RASA\, 485 K Street NW\, Washington\, DC\, 20001\, United States
ATTACH;FMTTYPE=image/jpeg:https://www.mountvernontriangle.org/wp-content/uploads/2025/06/RASA-April-2025-copy-scaled.jpg
END:VEVENT
BEGIN:VEVENT
DTSTART;VALUE=DATE:20251002
DTEND;VALUE=DATE:20251003
DTSTAMP:20260422T135047
CREATED:20251001T182645Z
LAST-MODIFIED:20251001T182645Z
UID:22530-1759363200-1759449599@www.mountvernontriangle.org
SUMMARY:Unlimited Free Delivery at RASA
DESCRIPTION:Enjoy free delivery for all RASA orders from the Mount Vernon Triangle now through October 14!
URL:https://www.mountvernontriangle.org/event/unlimited-free-delivery-at-rasa/2025-10-02/
LOCATION:RASA\, 485 K Street NW\, Washington\, DC\, 20001\, United States
ATTACH;FMTTYPE=image/jpeg:https://www.mountvernontriangle.org/wp-content/uploads/2025/06/RASA-April-2025-copy-scaled.jpg
END:VEVENT
BEGIN:VEVENT
DTSTART;VALUE=DATE:20251001
DTEND;VALUE=DATE:20251002
DTSTAMP:20260422T135047
CREATED:20251001T182645Z
LAST-MODIFIED:20251001T182645Z
UID:22529-1759276800-1759363199@www.mountvernontriangle.org
SUMMARY:Unlimited Free Delivery at RASA
DESCRIPTION:Enjoy free delivery for all RASA orders from the Mount Vernon Triangle now through October 14!
URL:https://www.mountvernontriangle.org/event/unlimited-free-delivery-at-rasa/2025-10-01/
LOCATION:RASA\, 485 K Street NW\, Washington\, DC\, 20001\, United States
ATTACH;FMTTYPE=image/jpeg:https://www.mountvernontriangle.org/wp-content/uploads/2025/06/RASA-April-2025-copy-scaled.jpg
END:VEVENT
END:VCALENDAR