BEGIN:VCALENDAR
VERSION:2.0
PRODID:-//Mount Vernon Triangle CID - ECPv6.15.13.1//NONSGML v1.0//EN
CALSCALE:GREGORIAN
METHOD:PUBLISH
X-ORIGINAL-URL:https://www.mountvernontriangle.org
X-WR-CALDESC:Events for Mount Vernon Triangle CID
REFRESH-INTERVAL;VALUE=DURATION:PT1H
X-Robots-Tag:noindex
X-PUBLISHED-TTL:PT1H
BEGIN:VTIMEZONE
TZID:America/New_York
BEGIN:DAYLIGHT
TZOFFSETFROM:-0500
TZOFFSETTO:-0400
TZNAME:EDT
DTSTART:20250309T070000
END:DAYLIGHT
BEGIN:STANDARD
TZOFFSETFROM:-0400
TZOFFSETTO:-0500
TZNAME:EST
DTSTART:20251102T060000
END:STANDARD
BEGIN:DAYLIGHT
TZOFFSETFROM:-0500
TZOFFSETTO:-0400
TZNAME:EDT
DTSTART:20260308T070000
END:DAYLIGHT
BEGIN:STANDARD
TZOFFSETFROM:-0400
TZOFFSETTO:-0500
TZNAME:EST
DTSTART:20261101T060000
END:STANDARD
BEGIN:DAYLIGHT
TZOFFSETFROM:-0500
TZOFFSETTO:-0400
TZNAME:EDT
DTSTART:20270314T070000
END:DAYLIGHT
BEGIN:STANDARD
TZOFFSETFROM:-0400
TZOFFSETTO:-0500
TZNAME:EST
DTSTART:20271107T060000
END:STANDARD
END:VTIMEZONE
BEGIN:VEVENT
DTSTART;VALUE=DATE:20260312
DTEND;VALUE=DATE:20260313
DTSTAMP:20260423T054057
CREATED:20250122T153124Z
LAST-MODIFIED:20260120T213637Z
UID:23656-1773273600-1773359999@www.mountvernontriangle.org
SUMMARY:VIDA Fitness Open House
DESCRIPTION:Come experience VIDA Fitness City Vista during our Community Open House! This is your chance to check out our beautiful facilities\, explore everything VIDA has to offer\, and see what makes our community so special. Enjoy complimentary access to the gym for the day\, meet our friendly team\, and get a feel for our energizing atmosphere—no membership required. Whether you’re curious about group fitness classes\, strength and cardio training\, or just want to see the space\, all are welcome. Bring a friend\, drop in\, and discover how VIDA Fitness can support your healthiest\, strongest life.\n\nReach out to our General Manager Chris Beaudry at cbeaudry@vidafitness.com to set up a tour today!
URL:https://www.mountvernontriangle.org/event/vida-fitness-open-house-5/2026-03-12/
LOCATION:445 K St NW\, 445 K St NW\, Washington\, DC\, 20001-2530\, United States
ATTACH;FMTTYPE=image/png:https://www.mountvernontriangle.org/wp-content/uploads/2025/01/download.png
ORGANIZER;CN="VIDA Fitness":MAILTO:adisch@vidafitness.com
END:VEVENT
BEGIN:VEVENT
DTSTART;VALUE=DATE:20260129
DTEND;VALUE=DATE:20260130
DTSTAMP:20260423T054057
CREATED:20250122T153124Z
LAST-MODIFIED:20260120T213636Z
UID:19336-1769644800-1769731199@www.mountvernontriangle.org
SUMMARY:VIDA Fitness Open House
DESCRIPTION:Come experience VIDA Fitness City Vista during our Community Open House! This is your chance to check out our beautiful facilities\, explore everything VIDA has to offer\, and see what makes our community so special. Enjoy complimentary access to the gym for the day\, meet our friendly team\, and get a feel for our energizing atmosphere—no membership required. Whether you’re curious about group fitness classes\, strength and cardio training\, or just want to see the space\, all are welcome. Bring a friend\, drop in\, and discover how VIDA Fitness can support your healthiest\, strongest life.\n\nReach out to our General Manager Chris Beaudry at cbeaudry@vidafitness.com to set up a tour today!
URL:https://www.mountvernontriangle.org/event/vida-fitness-open-house-5/2026-01-29/
LOCATION:445 K St NW\, 445 K St NW\, Washington\, DC\, 20001-2530\, United States
ATTACH;FMTTYPE=image/png:https://www.mountvernontriangle.org/wp-content/uploads/2025/01/download.png
ORGANIZER;CN="VIDA Fitness":MAILTO:adisch@vidafitness.com
END:VEVENT
END:VCALENDAR