BEGIN:VCALENDAR
VERSION:2.0
PRODID:-//Mount Vernon Triangle CID - ECPv6.15.13.1//NONSGML v1.0//EN
CALSCALE:GREGORIAN
METHOD:PUBLISH
X-WR-CALNAME:Mount Vernon Triangle CID
X-ORIGINAL-URL:https://www.mountvernontriangle.org
X-WR-CALDESC:Events for Mount Vernon Triangle CID
REFRESH-INTERVAL;VALUE=DURATION:PT1H
X-Robots-Tag:noindex
X-PUBLISHED-TTL:PT1H
BEGIN:VTIMEZONE
TZID:America/New_York
BEGIN:DAYLIGHT
TZOFFSETFROM:-0500
TZOFFSETTO:-0400
TZNAME:EDT
DTSTART:20250309T070000
END:DAYLIGHT
BEGIN:STANDARD
TZOFFSETFROM:-0400
TZOFFSETTO:-0500
TZNAME:EST
DTSTART:20251102T060000
END:STANDARD
BEGIN:DAYLIGHT
TZOFFSETFROM:-0500
TZOFFSETTO:-0400
TZNAME:EDT
DTSTART:20260308T070000
END:DAYLIGHT
BEGIN:STANDARD
TZOFFSETFROM:-0400
TZOFFSETTO:-0500
TZNAME:EST
DTSTART:20261101T060000
END:STANDARD
BEGIN:DAYLIGHT
TZOFFSETFROM:-0500
TZOFFSETTO:-0400
TZNAME:EDT
DTSTART:20270314T070000
END:DAYLIGHT
BEGIN:STANDARD
TZOFFSETFROM:-0400
TZOFFSETTO:-0500
TZNAME:EST
DTSTART:20271107T060000
END:STANDARD
END:VTIMEZONE
BEGIN:VEVENT
DTSTART;VALUE=DATE:20260423
DTEND;VALUE=DATE:20260424
DTSTAMP:20260423T122914
CREATED:20250122T153124Z
LAST-MODIFIED:20260120T213637Z
UID:23657-1776902400-1776988799@www.mountvernontriangle.org
SUMMARY:VIDA Fitness Open House
DESCRIPTION:Come experience VIDA Fitness City Vista during our Community Open House! This is your chance to check out our beautiful facilities\, explore everything VIDA has to offer\, and see what makes our community so special. Enjoy complimentary access to the gym for the day\, meet our friendly team\, and get a feel for our energizing atmosphere—no membership required. Whether you’re curious about group fitness classes\, strength and cardio training\, or just want to see the space\, all are welcome. Bring a friend\, drop in\, and discover how VIDA Fitness can support your healthiest\, strongest life.\n\nReach out to our General Manager Chris Beaudry at cbeaudry@vidafitness.com to set up a tour today!
URL:https://www.mountvernontriangle.org/event/vida-fitness-open-house-5/2026-04-23/
LOCATION:445 K St NW\, 445 K St NW\, Washington\, DC\, 20001-2530\, United States
ATTACH;FMTTYPE=image/png:https://www.mountvernontriangle.org/wp-content/uploads/2025/01/download.png
ORGANIZER;CN="VIDA Fitness":MAILTO:adisch@vidafitness.com
END:VEVENT
BEGIN:VEVENT
DTSTART;TZID=America/New_York:20260423T110000
DTEND;TZID=America/New_York:20260423T180000
DTSTAMP:20260423T122914
CREATED:20260227T193932Z
LAST-MODIFIED:20260227T193932Z
UID:24348-1776942000-1776967200@www.mountvernontriangle.org
SUMMARY:Carpe Librum Pop-Up at Prather's Plaza
DESCRIPTION:Carpe Librum is returning to Prather’s Plaza for another pop-up event from 11am-6pm. Stop by 4-1/2 & K Streets NW to browse a selection of lightly used books\, CDs\, and DVDs all for sale under $7. Proceeds from the sale support Turning the Page\, a nonprofit that works to provide opportunities for parents to actively participate in their children’s education. \nWhether you’re working from home\, working from the office\, or just looking for a fun thing to do on a Thursday afternoon\, pick up lunch from a neighboring K Street restaurant and head over to Prather’s Plaza to browse the selection and enjoy some time outdoors!
URL:https://www.mountvernontriangle.org/event/carpe-librum-pop-up-at-prathers-plaza-2/2026-04-23/
LOCATION:Prather’s Plaza\, 440 K Street NW\, Washington\, DC\, 20001\, United States
ATTACH;FMTTYPE=image/jpeg:https://www.mountvernontriangle.org/wp-content/uploads/2025/05/Mailchimp-Graphics_1200x675-2025-05-15T105921.954.jpg
END:VEVENT
BEGIN:VEVENT
DTSTART;TZID=America/New_York:20260423T170000
DTEND;TZID=America/New_York:20260423T183000
DTSTAMP:20260423T122914
CREATED:20260413T202612Z
LAST-MODIFIED:20260413T204547Z
UID:25001-1776963600-1776969000@www.mountvernontriangle.org
SUMMARY:Women\, Weights & Wine
DESCRIPTION:Join the VIDA Fitness personal training team for a 90-minute strength workshop – designed by women\, for women. You’ll learn how to safely execute strength exercises\, receive an individualized movement assessment\, and walk away with your own strength program. Class will also include snacks\, time to mingle with your fellow VIDA ladies\, and of course – wine!
URL:https://www.mountvernontriangle.org/event/women-weights-wine-8/2026-04-23/
LOCATION:VIDA Fitness at City Vista\, 445 K St NW\, Washington\, DC\, 20001
ATTACH;FMTTYPE=image/jpeg:https://www.mountvernontriangle.org/wp-content/uploads/2025/01/AKTIV-0203-scaled.jpg
ORGANIZER;CN="VIDA Fitness":MAILTO:adisch@vidafitness.com
END:VEVENT
BEGIN:VEVENT
DTSTART;TZID=America/New_York:20260423T190000
DTEND;TZID=America/New_York:20260423T230000
DTSTAMP:20260423T122914
CREATED:20260327T133308Z
LAST-MODIFIED:20260327T133648Z
UID:24707-1776970800-1776985200@www.mountvernontriangle.org
SUMMARY:Live Music @ dLeña ROJA
DESCRIPTION:ETX Trio by EFI Tovia – Wednesdays & Thursdays from 7pm to 11pm\nUnited Nation Trio by Gigi MacLaughlin – Fridays & Saturdays from 7pm to 11pm\nEli Staples and Trio Candela – Sundays from 6pm to 10pm
URL:https://www.mountvernontriangle.org/event/live-music-dlena-roja-14/2026-04-23/
LOCATION:dLeña ROJA\, 476 K Street Northwest\, Washington\, DC\, 20001\, United States
ATTACH;FMTTYPE=image/png:https://www.mountvernontriangle.org/wp-content/uploads/2021/07/dLena-ROJA.png
END:VEVENT
BEGIN:VEVENT
DTSTART;TZID=America/New_York:20260423T194500
DTEND;TZID=America/New_York:20260423T203000
DTSTAMP:20260423T122914
CREATED:20260224T214653Z
LAST-MODIFIED:20260224T214653Z
UID:24213-1776973500-1776976200@www.mountvernontriangle.org
SUMMARY:Introduction to Zumba at VIDA Fitness
DESCRIPTION:Interested in Zumba but too intimidated by the steps? Concerned you don’t have the rhythm to get a good workout? Think again! In this tailored\, intro series each week we will tackle the steps one by one (salsa\, merengue\, bachata\, cumbia\, samba\, and reggaeton/hip hop) in conjunction with cardio intervals so you can come to class feeling confident while sweating up a storm. This series runs on Thursdays at 7:45pm starting Thursday\, March 19th-space is limited so sign up here!
URL:https://www.mountvernontriangle.org/event/introduction-to-zumba-at-vida-fitness/2026-04-23/
LOCATION:Vida Fitness\, 445 K Street NW\, Washington\, DC\, 20001\, United States
ATTACH;FMTTYPE=image/jpeg:https://www.mountvernontriangle.org/wp-content/uploads/2020/01/vida1.jpg
END:VEVENT
END:VCALENDAR