BEGIN:VCALENDAR
VERSION:2.0
PRODID:-//Mount Vernon Triangle CID - ECPv6.15.13.1//NONSGML v1.0//EN
CALSCALE:GREGORIAN
METHOD:PUBLISH
X-WR-CALNAME:Mount Vernon Triangle CID
X-ORIGINAL-URL:https://www.mountvernontriangle.org
X-WR-CALDESC:Events for Mount Vernon Triangle CID
REFRESH-INTERVAL;VALUE=DURATION:PT1H
X-Robots-Tag:noindex
X-PUBLISHED-TTL:PT1H
BEGIN:VTIMEZONE
TZID:America/New_York
BEGIN:DAYLIGHT
TZOFFSETFROM:-0500
TZOFFSETTO:-0400
TZNAME:EDT
DTSTART:20220313T070000
END:DAYLIGHT
BEGIN:STANDARD
TZOFFSETFROM:-0400
TZOFFSETTO:-0500
TZNAME:EST
DTSTART:20221106T060000
END:STANDARD
BEGIN:DAYLIGHT
TZOFFSETFROM:-0500
TZOFFSETTO:-0400
TZNAME:EDT
DTSTART:20230312T070000
END:DAYLIGHT
BEGIN:STANDARD
TZOFFSETFROM:-0400
TZOFFSETTO:-0500
TZNAME:EST
DTSTART:20231105T060000
END:STANDARD
BEGIN:DAYLIGHT
TZOFFSETFROM:-0500
TZOFFSETTO:-0400
TZNAME:EDT
DTSTART:20240310T070000
END:DAYLIGHT
BEGIN:STANDARD
TZOFFSETFROM:-0400
TZOFFSETTO:-0500
TZNAME:EST
DTSTART:20241103T060000
END:STANDARD
END:VTIMEZONE
BEGIN:VEVENT
DTSTART;TZID=America/New_York:20230422T100000
DTEND;TZID=America/New_York:20230422T150000
DTSTAMP:20260422T070812
CREATED:20230418T192635Z
LAST-MODIFIED:20230418T193827Z
UID:13547-1682157600-1682175600@www.mountvernontriangle.org
SUMMARY:Pepco Celebrates Earth Day
DESCRIPTION:In conjunction with Earth Day 2023\, Pepco will host an Earth Day celebration on Saturday\, April 22\, 2023\nfrom 10:00 a.m. to 3:00 p.m. for the residents surrounding the Mount Vernon Substation site. The Mount\nVernon Substation is being built to strengthen the energy grid to safely serve the community now and in\nthe future. \nThis year’s Earth Day celebration will be used to: \n\nBring residents surrounding the Mount Vernon Substation together to support Earth Day efforts\nShare energy efficiency tips and tools with residents\nCleanup the community surrounding the Mount Vernon Substation\nProvide updates on the Mount Vernon Substation construction\nShare information on other Pepco initiatives\nEngage with the community through planting activities\n\nContact Resident Services\, Brigette Johnson (202) 394-4748 to register to volunteer! \nMore information >>
URL:https://www.mountvernontriangle.org/event/pepco-celebrates-earth-day/
LOCATION:SeVerna on K\, 43 K Street NW\, Washington\, DC 20001
ATTACH;FMTTYPE=image/jpeg:https://www.mountvernontriangle.org/wp-content/uploads/2023/04/Earth-Day.jpg
END:VEVENT
END:VCALENDAR